BEGIN:VCALENDAR
VERSION:2.0
PRODID:-//Partner Chile - ECPv6.9.0//NONSGML v1.0//EN
CALSCALE:GREGORIAN
METHOD:PUBLISH
X-WR-CALNAME:Partner Chile
X-ORIGINAL-URL:https://partnerchile.com
X-WR-CALDESC:Eventos para Partner Chile
REFRESH-INTERVAL;VALUE=DURATION:PT1H
X-Robots-Tag:noindex
X-PUBLISHED-TTL:PT1H
BEGIN:VTIMEZONE
TZID:America/Santiago
BEGIN:STANDARD
TZOFFSETFROM:-0300
TZOFFSETTO:-0400
TZNAME:-04
DTSTART:20240407T030000
END:STANDARD
BEGIN:DAYLIGHT
TZOFFSETFROM:-0400
TZOFFSETTO:-0300
TZNAME:-03
DTSTART:20240908T040000
END:DAYLIGHT
END:VTIMEZONE
BEGIN:VEVENT
DTSTART;VALUE=DATE:20241023
DTEND;VALUE=DATE:20241025
DTSTAMP:20260422T192921
CREATED:20240813T180039Z
LAST-MODIFIED:20250327T183925Z
UID:38147-1729641600-1729814399@partnerchile.com
SUMMARY:FILCE - Feria Internacional de Logística y Comercio Exterior
DESCRIPTION:La Feria Internacional de Logística y Comercio Exterior (FILCE) 2024 se llevará a cabo los días 23 y 24 de octubre en Centro Parque\, Santiago de Chile. Este evento es un importante punto de encuentro para profesionales del sector logístico\, del comercio exterior y del e-commerce. La feria ofrece una plataforma ideal para discutir innovaciones\, establecer contactos y generar negocios dentro de la cadena de suministro global. Los asistentes podrán participar en conferencias y talleres liderados por expertos en logística y tecnología. \n  \nParticipantes y Expositores: FILCE 2024 contará con la presencia de líderes del sector\, incluyendo gerentes generales\, comerciales y de logística. Más de 3000 asistentes calificados participarán\, lo que representa una oportunidad única para ampliar redes de contactos y explorar oportunidades comerciales. Empresas de renombre en tecnología logística\, transporte y comercio exterior exhibirán sus productos y servicios\, proporcionando a los asistentes una visión completa de las tendencias y desafíos actuales en el sector.
URL:https://partnerchile.com/calendario-partner/filce-feria-internacional-de-logistica-y-comercio-exterior/
LOCATION:Centro Parque\, Pdte. Riesco 5330\, Santiago\, Las Condes\, 7560996\, Chile
CATEGORIES:Ferias y Expos
ATTACH;FMTTYPE=image/png:https://partnerchile.com/wp-content/uploads/2024/07/FILCE–Feria-Internacional-de-Logistica-y-Comercio-Exterior.png
END:VEVENT
END:VCALENDAR