BEGIN:VCALENDAR
VERSION:2.0
PRODID:-//Partner Chile - ECPv6.9.0//NONSGML v1.0//EN
CALSCALE:GREGORIAN
METHOD:PUBLISH
X-ORIGINAL-URL:https://partnerchile.com
X-WR-CALDESC:Eventos para Partner Chile
REFRESH-INTERVAL;VALUE=DURATION:PT1H
X-Robots-Tag:noindex
X-PUBLISHED-TTL:PT1H
BEGIN:VTIMEZONE
TZID:America/Santiago
BEGIN:STANDARD
TZOFFSETFROM:-0300
TZOFFSETTO:-0400
TZNAME:-04
DTSTART:20250406T030000
END:STANDARD
BEGIN:DAYLIGHT
TZOFFSETFROM:-0400
TZOFFSETTO:-0300
TZNAME:-03
DTSTART:20250907T040000
END:DAYLIGHT
END:VTIMEZONE
BEGIN:VEVENT
DTSTART;VALUE=DATE:20250904
DTEND;VALUE=DATE:20250905
DTSTAMP:20260424T085122
CREATED:20240607T211605Z
LAST-MODIFIED:20250327T183921Z
UID:33409-1756944000-1757030399@partnerchile.com
SUMMARY:Día Internacional del Vino
DESCRIPTION:El 4 de septiembre es el Día Internacional del Vino\, una ocasión perfecta para celebrar con regalos y productos relacionados con esta bebida. Ofrece a tus colaboradores y clientes experiencias y artículos personalizados que realcen la apreciación del vino. Es una excelente oportunidad para promocionar tu marca y brindar momentos de disfrute. 🍷🍇🎁 \nFecha límite para aprobar vistas previas: 16 de agosto.
URL:https://partnerchile.com/calendario-partner/dia-internacional-del-vino/
LOCATION:Peñaflor
CATEGORIES:Fechas Especiales
ATTACH;FMTTYPE=image/png:https://partnerchile.com/wp-content/uploads/2024/07/Dia-del-Vino.png
ORGANIZER;CN="Partner Chile":MAILTO:contacto@partnerchile.com
END:VEVENT
END:VCALENDAR